Package: APL Version: 1.11.2 Command: /home/biocbuild/bbs-3.21-bioc/R/bin/R CMD INSTALL APL StartedAt: 2025-02-10 15:46:40 -0500 (Mon, 10 Feb 2025) EndedAt: 2025-02-10 15:47:21 -0500 (Mon, 10 Feb 2025) EllapsedTime: 41.6 seconds RetCode: 0 Status: OK