Package: APL Version: 1.11.2 Command: chmod a+r APL -R && E:\biocbuild\bbs-3.21-bioc\R\bin\R.exe CMD build --keep-empty-dirs --no-resave-data APL StartedAt: 2025-02-10 17:25:04 -0500 (Mon, 10 Feb 2025) EndedAt: 2025-02-10 17:29:46 -0500 (Mon, 10 Feb 2025) EllapsedTime: 282.2 seconds RetCode: 0 Status: OK PackageFile: APL_1.11.2.tar.gz PackageFileSize: 1.168 MiB