Package: APL Version: 1.11.2 Command: E:\biocbuild\bbs-3.21-bioc\R\bin\R.exe CMD check --no-multiarch --install=check:APL.install-out.txt --library=E:\biocbuild\bbs-3.21-bioc\R\library --no-vignettes --timings APL_1.11.2.tar.gz StartedAt: 2025-02-10 22:50:35 -0500 (Mon, 10 Feb 2025) EndedAt: 2025-02-10 22:56:00 -0500 (Mon, 10 Feb 2025) EllapsedTime: 324.9 seconds RetCode: 0 Status: OK CheckDir: APL.Rcheck Warnings: 0