Package: APL Version: 1.11.2 Command: E:\biocbuild\bbs-3.21-bioc\R\bin\R.exe CMD INSTALL APL StartedAt: 2025-02-10 16:24:37 -0500 (Mon, 10 Feb 2025) EndedAt: 2025-02-10 16:25:31 -0500 (Mon, 10 Feb 2025) EllapsedTime: 54.1 seconds RetCode: 0 Status: OK