Package: ARRmNormalization Version: 1.47.0 Command: rm -rf ARRmNormalization.buildbin-libdir && mkdir ARRmNormalization.buildbin-libdir && /Users/biocbuild/BBS/utils/build-universal.sh ARRmNormalization_1.47.0.tar.gz /Library/Frameworks/R.framework/Resources/bin/R ARRmNormalization.buildbin-libdir StartedAt: 2025-02-10 00:42:04 -0500 (Mon, 10 Feb 2025) EndedAt: 2025-02-10 00:42:12 -0500 (Mon, 10 Feb 2025) EllapsedTime: 8.2 seconds RetCode: 0 Status: OK PackageFile: ARRmNormalization_1.47.0.tgz PackageFileSize: 1.111 MiB