Package: ARRmNormalization Version: 1.47.0 Command: /Library/Frameworks/R.framework/Resources/bin/R CMD build --keep-empty-dirs --no-resave-data ARRmNormalization StartedAt: 2025-02-09 15:54:43 -0500 (Sun, 09 Feb 2025) EndedAt: 2025-02-09 15:55:18 -0500 (Sun, 09 Feb 2025) EllapsedTime: 34.3 seconds RetCode: 0 Status: OK PackageFile: ARRmNormalization_1.47.0.tar.gz PackageFileSize: 1.075 MiB