Package: ARRmNormalization Version: 1.47.0 Command: /Library/Frameworks/R.framework/Resources/bin/R CMD check --install=check:ARRmNormalization.install-out.txt --library=/Library/Frameworks/R.framework/Resources/library --no-vignettes --timings ARRmNormalization_1.47.0.tar.gz StartedAt: 2025-02-09 19:05:28 -0500 (Sun, 09 Feb 2025) EndedAt: 2025-02-09 19:07:12 -0500 (Sun, 09 Feb 2025) EllapsedTime: 104.1 seconds RetCode: 0 Status: OK CheckDir: ARRmNormalization.Rcheck Warnings: 0