Package: ARRmNormalization Version: 1.47.0 Command: /Library/Frameworks/R.framework/Resources/bin/R CMD INSTALL ARRmNormalization StartedAt: 2025-02-09 15:04:54 -0500 (Sun, 09 Feb 2025) EndedAt: 2025-02-09 15:05:07 -0500 (Sun, 09 Feb 2025) EllapsedTime: 12.6 seconds RetCode: 0 Status: OK