Package: ARRmNormalization Version: 1.47.0 Command: /home/biocbuild/bbs-3.21-bioc/R/bin/R CMD build --keep-empty-dirs --no-resave-data ARRmNormalization StartedAt: 2025-02-09 16:09:46 -0500 (Sun, 09 Feb 2025) EndedAt: 2025-02-09 16:10:13 -0500 (Sun, 09 Feb 2025) EllapsedTime: 27.0 seconds RetCode: 0 Status: OK PackageFile: ARRmNormalization_1.47.0.tar.gz PackageFileSize: 1.075 MiB