Package: ARRmNormalization Version: 1.47.0 Command: chmod a+r ARRmNormalization -R && E:\biocbuild\bbs-3.21-bioc\R\bin\R.exe CMD build --keep-empty-dirs --no-resave-data ARRmNormalization StartedAt: 2025-02-09 17:15:50 -0500 (Sun, 09 Feb 2025) EndedAt: 2025-02-09 17:16:29 -0500 (Sun, 09 Feb 2025) EllapsedTime: 38.7 seconds RetCode: 0 Status: OK PackageFile: ARRmNormalization_1.47.0.tar.gz PackageFileSize: 1007 KiB