Package: ASAFE Version: 1.33.0 Command: /Library/Frameworks/R.framework/Resources/bin/R CMD INSTALL ASAFE StartedAt: 2025-02-12 15:00:49 -0500 (Wed, 12 Feb 2025) EndedAt: 2025-02-12 15:00:54 -0500 (Wed, 12 Feb 2025) EllapsedTime: 4.6 seconds RetCode: 0 Status: OK