Package: ASAFE Version: 1.33.0 Command: /Library/Frameworks/R.framework/Resources/bin/R CMD INSTALL ASAFE StartedAt: 2025-02-09 15:03:18 -0500 (Sun, 09 Feb 2025) EndedAt: 2025-02-09 15:03:34 -0500 (Sun, 09 Feb 2025) EllapsedTime: 16.0 seconds RetCode: 0 Status: OK