Package: ASAFE Version: 1.33.0 Command: /home/biocbuild/bbs-3.21-bioc/R/bin/R CMD build --keep-empty-dirs --no-resave-data ASAFE StartedAt: 2025-02-09 16:09:59 -0500 (Sun, 09 Feb 2025) EndedAt: 2025-02-09 16:10:06 -0500 (Sun, 09 Feb 2025) EllapsedTime: 7.0 seconds RetCode: 0 Status: OK PackageFile: ASAFE_1.33.0.tar.gz PackageFileSize: 425.8 KiB