Package: ASAFE Version: 1.33.0 Command: /home/biocbuild/bbs-3.21-bioc/R/bin/R CMD check --install=check:ASAFE.install-out.txt --library=/home/biocbuild/bbs-3.21-bioc/R/site-library --timings ASAFE_1.33.0.tar.gz StartedAt: 2025-02-09 20:03:34 -0500 (Sun, 09 Feb 2025) EndedAt: 2025-02-09 20:03:51 -0500 (Sun, 09 Feb 2025) EllapsedTime: 17.1 seconds RetCode: 0 Status: OK CheckDir: ASAFE.Rcheck Warnings: 0