Package: ASAFE Version: 1.33.0 Command: /home/biocbuild/bbs-3.21-bioc/R/bin/R CMD INSTALL ASAFE StartedAt: 2025-02-09 15:02:46 -0500 (Sun, 09 Feb 2025) EndedAt: 2025-02-09 15:02:57 -0500 (Sun, 09 Feb 2025) EllapsedTime: 10.5 seconds RetCode: 0 Status: OK