Package: ASAFE Version: 1.33.0 Command: E:\biocbuild\bbs-3.21-bioc\R\bin\R.exe CMD INSTALL ASAFE StartedAt: 2025-02-09 15:18:24 -0500 (Sun, 09 Feb 2025) EndedAt: 2025-02-09 15:18:37 -0500 (Sun, 09 Feb 2025) EllapsedTime: 13.0 seconds RetCode: 0 Status: OK