Package: ASGSCA Version: 1.41.0 Command: /home/biocbuild/R/R/bin/R CMD check --install=check:ASGSCA.install-out.txt --library=/home/biocbuild/R/R/site-library --no-vignettes --timings ASGSCA_1.41.0.tar.gz StartedAt: 2025-01-28 03:36:09 -0000 (Tue, 28 Jan 2025) EndedAt: 2025-01-28 03:40:38 -0000 (Tue, 28 Jan 2025) EllapsedTime: 269.4 seconds RetCode: 0 Status: OK CheckDir: ASGSCA.Rcheck Warnings: 0