Package: ASGSCA Version: 1.41.0 Command: /Library/Frameworks/R.framework/Resources/bin/R CMD check --install=check:ASGSCA.install-out.txt --library=/Library/Frameworks/R.framework/Resources/library --no-vignettes --timings ASGSCA_1.41.0.tar.gz StartedAt: 2025-02-04 18:56:38 -0500 (Tue, 04 Feb 2025) EndedAt: 2025-02-04 19:00:00 -0500 (Tue, 04 Feb 2025) EllapsedTime: 202.6 seconds RetCode: 0 Status: OK CheckDir: ASGSCA.Rcheck Warnings: 0