Package: ASGSCA Version: 1.41.0 Command: /home/biocbuild/bbs-3.21-bioc/R/bin/R CMD check --install=check:ASGSCA.install-out.txt --library=/home/biocbuild/bbs-3.21-bioc/R/site-library --timings ASGSCA_1.41.0.tar.gz StartedAt: 2025-02-04 20:00:47 -0500 (Tue, 04 Feb 2025) EndedAt: 2025-02-04 20:06:19 -0500 (Tue, 04 Feb 2025) EllapsedTime: 332.5 seconds RetCode: 0 Status: OK CheckDir: ASGSCA.Rcheck Warnings: 0