Package: ASGSCA Version: 1.41.0 Command: chmod a+r ASGSCA -R && E:\biocbuild\bbs-3.21-bioc\R\bin\R.exe CMD build --keep-empty-dirs --no-resave-data ASGSCA StartedAt: 2025-02-09 17:16:30 -0500 (Sun, 09 Feb 2025) EndedAt: 2025-02-09 17:19:43 -0500 (Sun, 09 Feb 2025) EllapsedTime: 193.4 seconds RetCode: 0 Status: OK PackageFile: ASGSCA_1.41.0.tar.gz PackageFileSize: 1.184 MiB