Package: ASICS Version: 2.23.0 Command: /Library/Frameworks/R.framework/Resources/bin/R CMD build --keep-empty-dirs --no-resave-data ASICS StartedAt: 2025-02-09 15:34:02 -0500 (Sun, 09 Feb 2025) EndedAt: 2025-02-09 15:35:32 -0500 (Sun, 09 Feb 2025) EllapsedTime: 89.9 seconds RetCode: 0 Status: OK PackageFile: ASICS_2.23.0.tar.gz PackageFileSize: 3.581 MiB