Package: ASICS Version: 2.23.0 Command: /Library/Frameworks/R.framework/Resources/bin/R CMD check --install=check:ASICS.install-out.txt --library=/Library/Frameworks/R.framework/Resources/library --no-vignettes --timings ASICS_2.23.0.tar.gz StartedAt: 2025-02-09 18:05:11 -0500 (Sun, 09 Feb 2025) EndedAt: 2025-02-09 18:10:22 -0500 (Sun, 09 Feb 2025) EllapsedTime: 311.8 seconds RetCode: 0 Status: WARNINGS CheckDir: ASICS.Rcheck Warnings: 1