Package: ASICS Version: 2.23.0 Command: /Library/Frameworks/R.framework/Resources/bin/R CMD INSTALL ASICS StartedAt: 2025-02-12 15:26:25 -0500 (Wed, 12 Feb 2025) EndedAt: 2025-02-12 15:26:38 -0500 (Wed, 12 Feb 2025) EllapsedTime: 12.9 seconds RetCode: 0 Status: OK