Package: ASICS Version: 2.23.0 Command: /home/biocbuild/R/R/bin/R CMD build --keep-empty-dirs --no-resave-data ASICS StartedAt: 2025-01-29 20:53:10 -0000 (Wed, 29 Jan 2025) EndedAt: 2025-01-29 20:57:42 -0000 (Wed, 29 Jan 2025) EllapsedTime: 272.1 seconds RetCode: 0 Status: OK PackageFile: ASICS_2.23.0.tar.gz PackageFileSize: 3.582 MiB