Package: ASICS Version: 2.23.0 Command: rm -rf ASICS.buildbin-libdir && mkdir ASICS.buildbin-libdir && /Users/biocbuild/BBS/utils/build-universal.sh ASICS_2.23.0.tar.gz /Library/Frameworks/R.framework/Resources/bin/R ASICS.buildbin-libdir StartedAt: 2025-02-10 00:42:07 -0500 (Mon, 10 Feb 2025) EndedAt: 2025-02-10 00:42:57 -0500 (Mon, 10 Feb 2025) EllapsedTime: 49.6 seconds RetCode: 0 Status: OK PackageFile: ASICS_2.23.0.tgz PackageFileSize: 4.125 MiB