Package: ASICS Version: 2.23.0 Command: /Library/Frameworks/R.framework/Resources/bin/R CMD INSTALL ASICS StartedAt: 2025-02-09 15:40:38 -0500 (Sun, 09 Feb 2025) EndedAt: 2025-02-09 15:41:24 -0500 (Sun, 09 Feb 2025) EllapsedTime: 45.8 seconds RetCode: 0 Status: OK