Package: ASICS Version: 2.23.0 Command: chmod a+r ASICS -R && E:\biocbuild\bbs-3.21-bioc\R\bin\R.exe CMD build --keep-empty-dirs --no-resave-data ASICS StartedAt: 2025-02-09 17:16:31 -0500 (Sun, 09 Feb 2025) EndedAt: 2025-02-09 17:20:34 -0500 (Sun, 09 Feb 2025) EllapsedTime: 243.7 seconds RetCode: 0 Status: OK PackageFile: ASICS_2.23.0.tar.gz PackageFileSize: 3.581 MiB