############################################################################## ############################################################################## ### ### Running command: ### ### /home/biocbuild/bbs-3.21-bioc/R/bin/R CMD INSTALL ATACCoGAPS ### ############################################################################## ############################################################################## * installing to library ‘/home/biocbuild/bbs-3.21-bioc/R/site-library’ ERROR: dependencies ‘TFBSTools’, ‘motifmatchr’, ‘chromVAR’, ‘rGREAT’, ‘JASPAR2016’, ‘Homo.sapiens’, ‘Mus.musculus’, ‘BSgenome.Hsapiens.UCSC.hg19’, ‘BSgenome.Mmusculus.UCSC.mm10’ are not available for package ‘ATACCoGAPS’ Perhaps try a variation of: install.packages(c('TFBSTools', 'motifmatchr', 'chromVAR', 'rGREAT', 'JASPAR2016', 'Homo.sapiens', 'Mus.musculus', 'BSgenome.Hsapiens.UCSC.hg19', 'BSgenome.Mmusculus.UCSC.mm10')) * removing ‘/home/biocbuild/bbs-3.21-bioc/R/site-library/ATACCoGAPS’