Package: ATACseqTFEA Version: 1.9.1 Command: rm -rf ATACseqTFEA.buildbin-libdir && mkdir ATACseqTFEA.buildbin-libdir && /Users/biocbuild/BBS/utils/build-universal.sh ATACseqTFEA_1.9.1.tar.gz /Library/Frameworks/R.framework/Resources/bin/R ATACseqTFEA.buildbin-libdir StartedAt: 2025-02-09 22:06:10 -0500 (Sun, 09 Feb 2025) EndedAt: 2025-02-09 22:06:30 -0500 (Sun, 09 Feb 2025) EllapsedTime: 20.4 seconds RetCode: 0 Status: OK PackageFile: ATACseqTFEA_1.9.1.tgz PackageFileSize: 4.899 MiB