Package: ATACseqTFEA Version: 1.9.1 Command: /Library/Frameworks/R.framework/Resources/bin/R CMD check --install=check:ATACseqTFEA.install-out.txt --library=/Library/Frameworks/R.framework/Resources/library --no-vignettes --timings ATACseqTFEA_1.9.1.tar.gz StartedAt: 2025-02-09 18:05:46 -0500 (Sun, 09 Feb 2025) EndedAt: 2025-02-09 18:08:14 -0500 (Sun, 09 Feb 2025) EllapsedTime: 147.8 seconds RetCode: 0 Status: OK CheckDir: ATACseqTFEA.Rcheck Warnings: 0