Package: ATACseqTFEA Version: 1.9.1 Command: rm -rf ATACseqTFEA.buildbin-libdir && mkdir ATACseqTFEA.buildbin-libdir && /Users/biocbuild/BBS/utils/build-universal.sh ATACseqTFEA_1.9.1.tar.gz /Library/Frameworks/R.framework/Resources/bin/R ATACseqTFEA.buildbin-libdir StartedAt: 2025-02-10 00:42:13 -0500 (Mon, 10 Feb 2025) EndedAt: 2025-02-10 00:43:19 -0500 (Mon, 10 Feb 2025) EllapsedTime: 65.7 seconds RetCode: 0 Status: OK PackageFile: ATACseqTFEA_1.9.1.tgz PackageFileSize: 4.898 MiB