Package: ATACseqTFEA Version: 1.9.1 Command: /Library/Frameworks/R.framework/Resources/bin/R CMD INSTALL ATACseqTFEA StartedAt: 2025-02-09 15:22:58 -0500 (Sun, 09 Feb 2025) EndedAt: 2025-02-09 15:23:58 -0500 (Sun, 09 Feb 2025) EllapsedTime: 60.3 seconds RetCode: 0 Status: OK