Package: ATACseqTFEA Version: 1.9.1 Command: /home/biocbuild/bbs-3.21-bioc/R/bin/R CMD build --keep-empty-dirs --no-resave-data ATACseqTFEA StartedAt: 2025-02-09 16:11:01 -0500 (Sun, 09 Feb 2025) EndedAt: 2025-02-09 16:12:51 -0500 (Sun, 09 Feb 2025) EllapsedTime: 110.1 seconds RetCode: 0 Status: OK PackageFile: ATACseqTFEA_1.9.1.tar.gz PackageFileSize: 4.471 MiB