Package: ATACseqTFEA Version: 1.9.1 Command: /home/biocbuild/bbs-3.21-bioc/R/bin/R CMD check --install=check:ATACseqTFEA.install-out.txt --library=/home/biocbuild/bbs-3.21-bioc/R/site-library --timings ATACseqTFEA_1.9.1.tar.gz StartedAt: 2025-02-09 20:05:01 -0500 (Sun, 09 Feb 2025) EndedAt: 2025-02-09 20:13:04 -0500 (Sun, 09 Feb 2025) EllapsedTime: 482.6 seconds RetCode: 0 Status: OK CheckDir: ATACseqTFEA.Rcheck Warnings: 0