Package: ATACseqTFEA Version: 1.9.1 Command: /home/biocbuild/bbs-3.21-bioc/R/bin/R CMD INSTALL ATACseqTFEA StartedAt: 2025-02-09 15:53:07 -0500 (Sun, 09 Feb 2025) EndedAt: 2025-02-09 15:53:54 -0500 (Sun, 09 Feb 2025) EllapsedTime: 47.2 seconds RetCode: 0 Status: OK