Package: ATACseqTFEA Version: 1.9.1 Command: rm -rf ATACseqTFEA.buildbin-libdir && mkdir ATACseqTFEA.buildbin-libdir && E:\biocbuild\bbs-3.21-bioc\R\bin\R.exe CMD INSTALL --build --library=ATACseqTFEA.buildbin-libdir ATACseqTFEA_1.9.1.tar.gz StartedAt: 2025-02-05 07:26:39 -0500 (Wed, 05 Feb 2025) EndedAt: 2025-02-05 07:28:10 -0500 (Wed, 05 Feb 2025) EllapsedTime: 90.9 seconds RetCode: 0 Status: OK PackageFile: ATACseqTFEA_1.9.1.zip PackageFileSize: 4.787 MiB