Package: ATACseqTFEA Version: 1.9.1 Command: chmod a+r ATACseqTFEA -R && E:\biocbuild\bbs-3.21-bioc\R\bin\R.exe CMD build --keep-empty-dirs --no-resave-data ATACseqTFEA StartedAt: 2025-02-09 17:17:18 -0500 (Sun, 09 Feb 2025) EndedAt: 2025-02-09 17:19:55 -0500 (Sun, 09 Feb 2025) EllapsedTime: 156.8 seconds RetCode: 0 Status: OK PackageFile: ATACseqTFEA_1.9.1.tar.gz PackageFileSize: 4.303 MiB