Package: ATACseqTFEA Version: 1.9.1 Command: E:\biocbuild\bbs-3.21-bioc\R\bin\R.exe CMD INSTALL ATACseqTFEA StartedAt: 2025-02-04 16:08:09 -0500 (Tue, 04 Feb 2025) EndedAt: 2025-02-04 16:10:17 -0500 (Tue, 04 Feb 2025) EllapsedTime: 128.1 seconds RetCode: 0 Status: OK