Package: AUCell Version: 1.29.0 Command: /Library/Frameworks/R.framework/Resources/bin/R CMD build --keep-empty-dirs --no-resave-data AUCell StartedAt: 2025-02-04 15:53:44 -0500 (Tue, 04 Feb 2025) EndedAt: 2025-02-04 15:55:36 -0500 (Tue, 04 Feb 2025) EllapsedTime: 112.8 seconds RetCode: 0 Status: OK PackageFile: AUCell_1.29.0.tar.gz PackageFileSize: 2.409 MiB