Package: AUCell Version: 1.29.0 Command: /home/biocbuild/bbs-3.21-bioc/R/bin/R CMD check --install=check:AUCell.install-out.txt --library=/home/biocbuild/bbs-3.21-bioc/R/site-library --timings AUCell_1.29.0.tar.gz StartedAt: 2025-02-09 20:06:12 -0500 (Sun, 09 Feb 2025) EndedAt: 2025-02-09 20:11:04 -0500 (Sun, 09 Feb 2025) EllapsedTime: 292.3 seconds RetCode: 0 Status: OK CheckDir: AUCell.Rcheck Warnings: 0