Package: AUCell Version: 1.29.0 Command: /home/biocbuild/bbs-3.21-bioc/R/bin/R CMD INSTALL AUCell StartedAt: 2025-02-09 15:28:53 -0500 (Sun, 09 Feb 2025) EndedAt: 2025-02-09 15:29:24 -0500 (Sun, 09 Feb 2025) EllapsedTime: 31.7 seconds RetCode: 0 Status: OK