Package: AUCell Version: 1.29.0 Command: rm -rf AUCell.buildbin-libdir && mkdir AUCell.buildbin-libdir && E:\biocbuild\bbs-3.21-bioc\R\bin\R.exe CMD INSTALL --build --library=AUCell.buildbin-libdir AUCell_1.29.0.tar.gz StartedAt: 2025-02-10 07:14:15 -0500 (Mon, 10 Feb 2025) EndedAt: 2025-02-10 07:15:14 -0500 (Mon, 10 Feb 2025) EllapsedTime: 59.5 seconds RetCode: 0 Status: OK PackageFile: AUCell_1.29.0.zip PackageFileSize: 1.332 MiB