Package: AllelicImbalance Version: 1.45.0 Command: /home/biocbuild/R/R/bin/R CMD INSTALL AllelicImbalance StartedAt: 2025-01-29 20:11:51 -0000 (Wed, 29 Jan 2025) EndedAt: 2025-01-29 20:13:08 -0000 (Wed, 29 Jan 2025) EllapsedTime: 77.2 seconds RetCode: 0 Status: OK