Package: AllelicImbalance Version: 1.45.0 Command: rm -rf AllelicImbalance.buildbin-libdir && mkdir AllelicImbalance.buildbin-libdir && /Users/biocbuild/BBS/utils/build-universal.sh AllelicImbalance_1.45.0.tar.gz /Library/Frameworks/R.framework/Resources/bin/R AllelicImbalance.buildbin-libdir StartedAt: 2025-02-10 00:41:28 -0500 (Mon, 10 Feb 2025) EndedAt: 2025-02-10 00:42:48 -0500 (Mon, 10 Feb 2025) EllapsedTime: 79.7 seconds RetCode: 0 Status: OK PackageFile: AllelicImbalance_1.45.0.tgz PackageFileSize: 1.228 MiB