Package: AllelicImbalance Version: 1.45.0 Command: /Library/Frameworks/R.framework/Resources/bin/R CMD check --install=check:AllelicImbalance.install-out.txt --library=/Library/Frameworks/R.framework/Resources/library --no-vignettes --timings AllelicImbalance_1.45.0.tar.gz StartedAt: 2025-02-09 19:01:12 -0500 (Sun, 09 Feb 2025) EndedAt: 2025-02-09 19:10:07 -0500 (Sun, 09 Feb 2025) EllapsedTime: 535.8 seconds RetCode: 0 Status: OK CheckDir: AllelicImbalance.Rcheck Warnings: 0