Package: AllelicImbalance Version: 1.45.0 Command: /home/biocbuild/bbs-3.21-bioc/R/bin/R CMD INSTALL AllelicImbalance StartedAt: 2025-02-12 15:48:40 -0500 (Wed, 12 Feb 2025) EndedAt: 2025-02-12 15:49:37 -0500 (Wed, 12 Feb 2025) EllapsedTime: 56.5 seconds RetCode: 0 Status: OK