Package: AllelicImbalance Version: 1.45.0 Command: E:\biocbuild\bbs-3.21-bioc\R\bin\R.exe CMD check --no-multiarch --install=check:AllelicImbalance.install-out.txt --library=E:\biocbuild\bbs-3.21-bioc\R\library --no-vignettes --timings AllelicImbalance_1.45.0.tar.gz StartedAt: 2025-02-09 22:33:32 -0500 (Sun, 09 Feb 2025) EndedAt: 2025-02-09 22:43:02 -0500 (Sun, 09 Feb 2025) EllapsedTime: 570.0 seconds RetCode: 0 Status: OK CheckDir: AllelicImbalance.Rcheck Warnings: 0