Package: AlphaMissenseR Version: 1.3.0 Command: rm -rf AlphaMissenseR.buildbin-libdir && mkdir AlphaMissenseR.buildbin-libdir && /Users/biocbuild/BBS/utils/build-universal.sh AlphaMissenseR_1.3.0.tar.gz /Library/Frameworks/R.framework/Resources/bin/R AlphaMissenseR.buildbin-libdir StartedAt: 2025-01-30 22:04:46 -0500 (Thu, 30 Jan 2025) EndedAt: 2025-01-30 22:04:50 -0500 (Thu, 30 Jan 2025) EllapsedTime: 4.1 seconds RetCode: 0 Status: OK PackageFile: AlphaMissenseR_1.3.0.tgz PackageFileSize: 2.746 MiB