Package: AlphaMissenseR Version: 1.3.0 Command: /Library/Frameworks/R.framework/Resources/bin/R CMD build --keep-empty-dirs --no-resave-data AlphaMissenseR StartedAt: 2025-02-04 15:32:40 -0500 (Tue, 04 Feb 2025) EndedAt: 2025-02-04 15:54:48 -0500 (Tue, 04 Feb 2025) EllapsedTime: 1328.1 seconds RetCode: 0 Status: OK PackageFile: AlphaMissenseR_1.3.0.tar.gz PackageFileSize: 2.802 MiB