Package: AlphaMissenseR Version: 1.3.0 Command: /Library/Frameworks/R.framework/Resources/bin/R CMD INSTALL AlphaMissenseR StartedAt: 2025-02-03 15:45:15 -0500 (Mon, 03 Feb 2025) EndedAt: 2025-02-03 15:45:19 -0500 (Mon, 03 Feb 2025) EllapsedTime: 3.8 seconds RetCode: 0 Status: OK